BEGIN:VCALENDAR
VERSION:2.0
PRODID:-//South Carolina Tennis Foundation - ECPv6.15.20//NONSGML v1.0//EN
CALSCALE:GREGORIAN
METHOD:PUBLISH
X-WR-CALNAME:South Carolina Tennis Foundation
X-ORIGINAL-URL:https://sctennisfoundation.org
X-WR-CALDESC:Events for South Carolina Tennis Foundation
REFRESH-INTERVAL;VALUE=DURATION:PT1H
X-Robots-Tag:noindex
X-PUBLISHED-TTL:PT1H
BEGIN:VTIMEZONE
TZID:America/New_York
BEGIN:DAYLIGHT
TZOFFSETFROM:-0500
TZOFFSETTO:-0400
TZNAME:EDT
DTSTART:20230312T070000
END:DAYLIGHT
BEGIN:STANDARD
TZOFFSETFROM:-0400
TZOFFSETTO:-0500
TZNAME:EST
DTSTART:20231105T060000
END:STANDARD
BEGIN:DAYLIGHT
TZOFFSETFROM:-0500
TZOFFSETTO:-0400
TZNAME:EDT
DTSTART:20240310T070000
END:DAYLIGHT
BEGIN:STANDARD
TZOFFSETFROM:-0400
TZOFFSETTO:-0500
TZNAME:EST
DTSTART:20241103T060000
END:STANDARD
BEGIN:DAYLIGHT
TZOFFSETFROM:-0500
TZOFFSETTO:-0400
TZNAME:EDT
DTSTART:20250309T070000
END:DAYLIGHT
BEGIN:STANDARD
TZOFFSETFROM:-0400
TZOFFSETTO:-0500
TZNAME:EST
DTSTART:20251102T060000
END:STANDARD
END:VTIMEZONE
BEGIN:VEVENT
DTSTART;TZID=America/New_York:20241124T103000
DTEND;TZID=America/New_York:20241124T123000
DTSTAMP:20260423T115226
CREATED:20241013T195108Z
LAST-MODIFIED:20241119T144446Z
UID:5657-1732444200-1732451400@sctennisfoundation.org
SUMMARY:Play It Forward Tennis FUN-draiser!
DESCRIPTION:Come join us at the Shipyard Tennis Courts Sunday morning\, November 24th\, for some amazing Tennis FUN while supporting the SC Tennis Foundation! You’ll help us Serve Up Opportunities for many deserving programs and individuals throughout South Carolina! 
URL:https://sctennisfoundation.org/event/play-it-forward-tennis-fun-draiser/
LOCATION:Shipyard Tennis Courts\, 116 Shipyard Drive\, Hilton Head Island\, SC\, 29928\, United States
CATEGORIES:Fundraiser
ATTACH;FMTTYPE=image/png:https://sctennisfoundation.org/wp-content/uploads/2024/10/Sunday-FR.png
ORGANIZER;CN="SC Tennis Foundation":MAILTO:marcia@sctennisfoundation.org
END:VEVENT
END:VCALENDAR